BEGIN:VCALENDAR
VERSION:2.0
PRODID:-//Tukios.com/
BEGIN:VEVENT
UID:a966512c-a5a0-4c55-8ac5-9425bb207be5@www.morgan-kadukfuneralhome.com
DTSTAMP:20260421T191957Z
DTSTART:20260425T203000Z
DTEND:20260425T220000Z
SUMMARY:Visitation
DESCRIPTION:
URL:https://www.morgan-kadukfuneralhome.com/obituaries/gabby-rod-de-la-cruz
LOCATION: 6025 Trouble Creek Rd.  New Port Richey FL 34653
GEO:28.2247457;-82.7144553
END:VEVENT
END:VCALENDAR