BEGIN:VCALENDAR
VERSION:2.0
PRODID:-//Tukios.com/
BEGIN:VEVENT
UID:617dbdfe-febe-4085-b2d1-2faa89216262@www.morgan-kadukfuneralhome.com
DTSTAMP:20260421T192458Z
DTSTART:20260425T220000Z
DTEND:20260425T223000Z
SUMMARY:Funeral Service
DESCRIPTION:
URL:https://www.morgan-kadukfuneralhome.com/obituaries/gabby-rod-de-la-cruz
LOCATION: 6025 Trouble Creek Rd.  New Port Richey FL 34653
GEO:28.2247457;-82.7144553
END:VEVENT
END:VCALENDAR