BEGIN:VCALENDAR
VERSION:2.0
PRODID:-//Tukios.com/
BEGIN:VEVENT
UID:9ac6f117-1abc-49a9-8f88-83d4be5b8f64@www.morgan-kadukfuneralhome.com
DTSTAMP:20260421T192444Z
DTSTART:20260425T223000Z
DTEND:20260426T003000Z
SUMMARY:Visitation with Family
DESCRIPTION:**Reception in our hospitality room to follow funeral 
	service.
URL:https://www.morgan-kadukfuneralhome.com/obituaries/gabby-rod-de-la-cruz
LOCATION: 6025 Trouble Creek Rd.  New Port Richey FL 34653
GEO:28.2247457;-82.7144553
END:VEVENT
END:VCALENDAR