BEGIN:VCALENDAR
VERSION:2.0
PRODID:-//Tukios.com/
BEGIN:VEVENT
UID:1a300cdc-5c86-48de-af93-75ec22f9e5ce@www.morgan-kadukfuneralhome.com
DTSTAMP:20260422T202122Z
DTSTART:20260426T170000Z
DTEND:20260426T180000Z
SUMMARY:Memorial Gathering
DESCRIPTION:
URL:https://www.morgan-kadukfuneralhome.com/obituaries/joshua-edleman
LOCATION: 6025 Trouble Creek Rd.  New Port Richey FL 34653
GEO:28.2247457;-82.7144553
END:VEVENT
END:VCALENDAR